BEGIN:VCALENDAR
VERSION:2.0
PRODID:-//Weidener Kammerchor - ECPv6.15.16//NONSGML v1.0//EN
CALSCALE:GREGORIAN
METHOD:PUBLISH
X-ORIGINAL-URL:https://weidenerkammerchor.de
X-WR-CALDESC:Veranstaltungen für Weidener Kammerchor
REFRESH-INTERVAL;VALUE=DURATION:PT1H
X-Robots-Tag:noindex
X-PUBLISHED-TTL:PT1H
BEGIN:VTIMEZONE
TZID:Europe/Berlin
BEGIN:DAYLIGHT
TZOFFSETFROM:+0100
TZOFFSETTO:+0200
TZNAME:CEST
DTSTART:20220327T010000
END:DAYLIGHT
BEGIN:STANDARD
TZOFFSETFROM:+0200
TZOFFSETTO:+0100
TZNAME:CET
DTSTART:20221030T010000
END:STANDARD
BEGIN:DAYLIGHT
TZOFFSETFROM:+0100
TZOFFSETTO:+0200
TZNAME:CEST
DTSTART:20230326T010000
END:DAYLIGHT
BEGIN:STANDARD
TZOFFSETFROM:+0200
TZOFFSETTO:+0100
TZNAME:CET
DTSTART:20231029T010000
END:STANDARD
BEGIN:DAYLIGHT
TZOFFSETFROM:+0100
TZOFFSETTO:+0200
TZNAME:CEST
DTSTART:20240331T010000
END:DAYLIGHT
BEGIN:STANDARD
TZOFFSETFROM:+0200
TZOFFSETTO:+0100
TZNAME:CET
DTSTART:20241027T010000
END:STANDARD
BEGIN:DAYLIGHT
TZOFFSETFROM:+0100
TZOFFSETTO:+0200
TZNAME:CEST
DTSTART:20250330T010000
END:DAYLIGHT
BEGIN:STANDARD
TZOFFSETFROM:+0200
TZOFFSETTO:+0100
TZNAME:CET
DTSTART:20251026T010000
END:STANDARD
END:VTIMEZONE
BEGIN:VEVENT
DTSTART;TZID=Europe/Berlin:20240226T193000
DTEND;TZID=Europe/Berlin:20240226T213000
DTSTAMP:20260420T202929
CREATED:20240126T104701Z
LAST-MODIFIED:20240126T104701Z
UID:3128-1708975800-1708983000@weidenerkammerchor.de
SUMMARY:19.30 Uhr - Probe im AGW
DESCRIPTION:
URL:https://weidenerkammerchor.de/event/19-30-uhr-probe-im-agw-55/
LOCATION:Augustinus Gymnasium Weiden\, Sebastianstraße 28\, Weiden in der Oberpfalz\, 92637\, Deutschland
END:VEVENT
BEGIN:VEVENT
DTSTART;TZID=Europe/Berlin:20240219T193000
DTEND;TZID=Europe/Berlin:20240219T213000
DTSTAMP:20260420T202929
CREATED:20240126T104519Z
LAST-MODIFIED:20240126T104519Z
UID:3126-1708371000-1708378200@weidenerkammerchor.de
SUMMARY:19.30 Uhr - Probe im AGW
DESCRIPTION:
URL:https://weidenerkammerchor.de/event/19-30-uhr-probe-im-agw-54/
LOCATION:Augustinus Gymnasium Weiden\, Sebastianstraße 28\, Weiden in der Oberpfalz\, 92637\, Deutschland
END:VEVENT
BEGIN:VEVENT
DTSTART;VALUE=DATE:20240212
DTEND;VALUE=DATE:20240213
DTSTAMP:20260420T202929
CREATED:20240126T103119Z
LAST-MODIFIED:20240126T103119Z
UID:3123-1707696000-1707782399@weidenerkammerchor.de
SUMMARY:Keine Probe
DESCRIPTION:
URL:https://weidenerkammerchor.de/event/keine-probe-24/
END:VEVENT
BEGIN:VEVENT
DTSTART;TZID=Europe/Berlin:20240205T193000
DTEND;TZID=Europe/Berlin:20240205T213000
DTSTAMP:20260420T202929
CREATED:20240126T103100Z
LAST-MODIFIED:20240126T103100Z
UID:3121-1707161400-1707168600@weidenerkammerchor.de
SUMMARY:19.30 Uhr - Probe im AGW
DESCRIPTION:
URL:https://weidenerkammerchor.de/event/19-30-uhr-probe-im-agw-53/
LOCATION:Augustinus Gymnasium Weiden\, Sebastianstraße 28\, Weiden in der Oberpfalz\, 92637\, Deutschland
END:VEVENT
BEGIN:VEVENT
DTSTART;TZID=Europe/Berlin:20240129T193000
DTEND;TZID=Europe/Berlin:20240129T213000
DTSTAMP:20260420T202929
CREATED:20240126T101443Z
LAST-MODIFIED:20240126T101443Z
UID:3119-1706556600-1706563800@weidenerkammerchor.de
SUMMARY:19.30 Uhr - Probe im AGW
DESCRIPTION:
URL:https://weidenerkammerchor.de/event/19-30-uhr-probe-im-agw-52/
LOCATION:Augustinus Gymnasium Weiden\, Sebastianstraße 28\, Weiden in der Oberpfalz\, 92637\, Deutschland
END:VEVENT
BEGIN:VEVENT
DTSTART;TZID=Europe/Berlin:20240122T193000
DTEND;TZID=Europe/Berlin:20240122T213000
DTSTAMP:20260420T202929
CREATED:20240126T101006Z
LAST-MODIFIED:20240126T101057Z
UID:3114-1705951800-1705959000@weidenerkammerchor.de
SUMMARY:19.30 - Probe im AGW
DESCRIPTION:
URL:https://weidenerkammerchor.de/event/19-30-probe-im-agw/
LOCATION:Augustinus Gymnasium Weiden\, Sebastianstraße 28\, Weiden in der Oberpfalz\, 92637\, Deutschland
END:VEVENT
BEGIN:VEVENT
DTSTART;VALUE=DATE:20240115
DTEND;VALUE=DATE:20240116
DTSTAMP:20260420T202929
CREATED:20240126T101140Z
LAST-MODIFIED:20240126T101140Z
UID:3117-1705276800-1705363199@weidenerkammerchor.de
SUMMARY:Keine Probe
DESCRIPTION:
URL:https://weidenerkammerchor.de/event/keine-probe-23/
END:VEVENT
BEGIN:VEVENT
DTSTART;VALUE=DATE:20240108
DTEND;VALUE=DATE:20240109
DTSTAMP:20260420T202929
CREATED:20240105T021624Z
LAST-MODIFIED:20240105T021642Z
UID:3103-1704672000-1704758399@weidenerkammerchor.de
SUMMARY:Keine Probe
DESCRIPTION:
URL:https://weidenerkammerchor.de/event/keine-probe-22/
END:VEVENT
BEGIN:VEVENT
DTSTART;TZID=Europe/Berlin:20240106T190000
DTEND;TZID=Europe/Berlin:20240106T233000
DTSTAMP:20260420T202929
CREATED:20231204T104803Z
LAST-MODIFIED:20231211T150620Z
UID:3078-1704567600-1704583800@weidenerkammerchor.de
SUMMARY:19 Uhr - Konzert in St. Georg/NEW
DESCRIPTION:
URL:https://weidenerkammerchor.de/event/17-uhr-konzert-in-st-felix-new/
LOCATION:St. Georg Neustadt\, Stadtplatz 12\, Neustadt/WN\, 92660
END:VEVENT
BEGIN:VEVENT
DTSTART;TZID=Europe/Berlin:20240106T153000
DTEND;TZID=Europe/Berlin:20240106T170000
DTSTAMP:20260420T202929
CREATED:20240105T021257Z
LAST-MODIFIED:20240105T021355Z
UID:3098-1704555000-1704560400@weidenerkammerchor.de
SUMMARY:15.30 Uhr - GP
DESCRIPTION:
URL:https://weidenerkammerchor.de/event/15-30-uhr-gp-in-st-georg/
LOCATION:St. Georg Neustadt\, Stadtplatz 12\, Neustadt/WN\, 92660
END:VEVENT
BEGIN:VEVENT
DTSTART;TZID=Europe/Berlin:20240105T193000
DTEND;TZID=Europe/Berlin:20240105T220000
DTSTAMP:20260420T202929
CREATED:20231205T123501Z
LAST-MODIFIED:20240105T021437Z
UID:3087-1704483000-1704492000@weidenerkammerchor.de
SUMMARY:19.30 Uhr - Probe
DESCRIPTION:
URL:https://weidenerkammerchor.de/event/19-30-uhr-gp/
END:VEVENT
BEGIN:VEVENT
DTSTART;VALUE=DATE:20240101
DTEND;VALUE=DATE:20240102
DTSTAMP:20260420T202929
CREATED:20231204T104941Z
LAST-MODIFIED:20240126T101117Z
UID:3084-1704067200-1704153599@weidenerkammerchor.de
SUMMARY:Keine Probe
DESCRIPTION:
URL:https://weidenerkammerchor.de/event/keine-probe-21/
END:VEVENT
BEGIN:VEVENT
DTSTART;VALUE=DATE:20231225
DTEND;VALUE=DATE:20231226
DTSTAMP:20260420T202929
CREATED:20231204T104924Z
LAST-MODIFIED:20240126T103138Z
UID:3082-1703462400-1703548799@weidenerkammerchor.de
SUMMARY:Keine Probe
DESCRIPTION:
URL:https://weidenerkammerchor.de/event/keine-probe-20/
END:VEVENT
BEGIN:VEVENT
DTSTART;TZID=Europe/Berlin:20231218T193000
DTEND;TZID=Europe/Berlin:20231218T213000
DTSTAMP:20260420T202929
CREATED:20231204T104702Z
LAST-MODIFIED:20231204T104702Z
UID:3076-1702927800-1702935000@weidenerkammerchor.de
SUMMARY:19.30 Uhr - Probe im AGW
DESCRIPTION:
URL:https://weidenerkammerchor.de/event/19-30-uhr-probe-im-agw-51/
LOCATION:Augustinus Gymnasium Weiden\, Sebastianstraße 28\, Weiden in der Oberpfalz\, 92637\, Deutschland
END:VEVENT
BEGIN:VEVENT
DTSTART;TZID=Europe/Berlin:20231211T193000
DTEND;TZID=Europe/Berlin:20231211T213000
DTSTAMP:20260420T202929
CREATED:20231204T104623Z
LAST-MODIFIED:20231204T104623Z
UID:3073-1702323000-1702330200@weidenerkammerchor.de
SUMMARY:19.30 Uhr - Probe im AGW
DESCRIPTION:
URL:https://weidenerkammerchor.de/event/19-30-uhr-probe-im-agw-50/
LOCATION:Augustinus Gymnasium Weiden\, Sebastianstraße 28\, Weiden in der Oberpfalz\, 92637\, Deutschland
END:VEVENT
BEGIN:VEVENT
DTSTART;VALUE=DATE:20231204
DTEND;VALUE=DATE:20231205
DTSTAMP:20260420T202929
CREATED:20231204T104545Z
LAST-MODIFIED:20231204T104545Z
UID:3071-1701648000-1701734399@weidenerkammerchor.de
SUMMARY:Keine Probe
DESCRIPTION:
URL:https://weidenerkammerchor.de/event/keine-probe-19/
END:VEVENT
BEGIN:VEVENT
DTSTART;TZID=Europe/Berlin:20231203T170000
DTEND;TZID=Europe/Berlin:20231203T190000
DTSTAMP:20260420T202929
CREATED:20230706T090329Z
LAST-MODIFIED:20231204T104302Z
UID:2975-1701622800-1701630000@weidenerkammerchor.de
SUMMARY:17 h Adventslicht - Benefizkonzert
DESCRIPTION:
URL:https://weidenerkammerchor.de/event/adventslicht-benefizkonzert/
LOCATION:Max-Reger-Halle\, Dr.-Pfleger-Str. 17\, Weiden\, 92637\, Deutschland
END:VEVENT
BEGIN:VEVENT
DTSTART;TZID=Europe/Berlin:20231203T103000
DTEND;TZID=Europe/Berlin:20231203T120000
DTSTAMP:20260420T202929
CREATED:20231204T104354Z
LAST-MODIFIED:20231204T104528Z
UID:3066-1701599400-1701604800@weidenerkammerchor.de
SUMMARY:10.30 Uhr - Probe in der MRH
DESCRIPTION:
URL:https://weidenerkammerchor.de/event/10-30-uhr-probe-mrh/
LOCATION:Max-Reger-Halle\, Dr.-Pfleger-Str. 17\, Weiden\, 92637\, Deutschland
END:VEVENT
BEGIN:VEVENT
DTSTART;TZID=Europe/Berlin:20231202T153000
DTEND;TZID=Europe/Berlin:20231202T180000
DTSTAMP:20260420T202929
CREATED:20231204T104516Z
LAST-MODIFIED:20231204T104516Z
UID:3068-1701531000-1701540000@weidenerkammerchor.de
SUMMARY:15.30 Uhr - Probe in der MRH
DESCRIPTION:
URL:https://weidenerkammerchor.de/event/15-30-uhr-probe-in-der-mrh/
LOCATION:Max-Reger-Halle\, Dr.-Pfleger-Str. 17\, Weiden\, 92637\, Deutschland
END:VEVENT
BEGIN:VEVENT
DTSTART;TZID=Europe/Berlin:20231127T193000
DTEND;TZID=Europe/Berlin:20231127T213000
DTSTAMP:20260420T202929
CREATED:20231002T114457Z
LAST-MODIFIED:20231002T114457Z
UID:3002-1701113400-1701120600@weidenerkammerchor.de
SUMMARY:19.30 Uhr - Probe im AGW
DESCRIPTION:
URL:https://weidenerkammerchor.de/event/19-30-uhr-probe-im-agw-49/
LOCATION:Augustinus Gymnasium Weiden\, Sebastianstraße 28\, Weiden in der Oberpfalz\, 92637\, Deutschland
END:VEVENT
BEGIN:VEVENT
DTSTART;TZID=Europe/Berlin:20231120T193000
DTEND;TZID=Europe/Berlin:20231120T213000
DTSTAMP:20260420T202929
CREATED:20231002T114420Z
LAST-MODIFIED:20231002T114420Z
UID:3000-1700508600-1700515800@weidenerkammerchor.de
SUMMARY:19.30 Uhr - Probe im AGW
DESCRIPTION:
URL:https://weidenerkammerchor.de/event/19-30-uhr-probe-im-agw-48/
LOCATION:Augustinus Gymnasium Weiden\, Sebastianstraße 28\, Weiden in der Oberpfalz\, 92637\, Deutschland
END:VEVENT
BEGIN:VEVENT
DTSTART;TZID=Europe/Berlin:20231113T193000
DTEND;TZID=Europe/Berlin:20231113T213000
DTSTAMP:20260420T202929
CREATED:20231002T114328Z
LAST-MODIFIED:20231002T114605Z
UID:2998-1699903800-1699911000@weidenerkammerchor.de
SUMMARY:19.30 Uhr - Probe im AGW
DESCRIPTION:
URL:https://weidenerkammerchor.de/event/1930-uhr-probe-im-agw-4/
LOCATION:Augustinus Gymnasium Weiden\, Sebastianstraße 28\, Weiden in der Oberpfalz\, 92637\, Deutschland
END:VEVENT
BEGIN:VEVENT
DTSTART;TZID=Europe/Berlin:20231106T193000
DTEND;TZID=Europe/Berlin:20231106T213000
DTSTAMP:20260420T202929
CREATED:20231002T114254Z
LAST-MODIFIED:20231002T114254Z
UID:2996-1699299000-1699306200@weidenerkammerchor.de
SUMMARY:19.30 Uhr - Probe im AGW
DESCRIPTION:
URL:https://weidenerkammerchor.de/event/19-30-uhr-probe-im-agw-47/
LOCATION:Augustinus Gymnasium Weiden\, Sebastianstraße 28\, Weiden in der Oberpfalz\, 92637\, Deutschland
END:VEVENT
BEGIN:VEVENT
DTSTART;TZID=Europe/Berlin:20231030T193000
DTEND;TZID=Europe/Berlin:20231030T213000
DTSTAMP:20260420T202929
CREATED:20231002T114213Z
LAST-MODIFIED:20231025T064355Z
UID:2994-1698694200-1698701400@weidenerkammerchor.de
SUMMARY:19.30 Uhr - Probe im AGW
DESCRIPTION:
URL:https://weidenerkammerchor.de/event/keine-probe-18/
LOCATION:Augustinus Gymnasium Weiden\, Sebastianstraße 28\, Weiden in der Oberpfalz\, 92637\, Deutschland
END:VEVENT
BEGIN:VEVENT
DTSTART;TZID=Europe/Berlin:20231023T193000
DTEND;TZID=Europe/Berlin:20231023T213000
DTSTAMP:20260420T202929
CREATED:20231002T113506Z
LAST-MODIFIED:20231002T114656Z
UID:2992-1698089400-1698096600@weidenerkammerchor.de
SUMMARY:19.30 Uhr - Probe im AGW
DESCRIPTION:
URL:https://weidenerkammerchor.de/event/1930-uhr-probe-im-agw-3/
LOCATION:Augustinus Gymnasium Weiden\, Sebastianstraße 28\, Weiden in der Oberpfalz\, 92637\, Deutschland
END:VEVENT
BEGIN:VEVENT
DTSTART;TZID=Europe/Berlin:20231016T193000
DTEND;TZID=Europe/Berlin:20231016T213000
DTSTAMP:20260420T202929
CREATED:20231002T113414Z
LAST-MODIFIED:20231002T114549Z
UID:2990-1697484600-1697491800@weidenerkammerchor.de
SUMMARY:19.30 Uhr - Probe im AGW
DESCRIPTION:
URL:https://weidenerkammerchor.de/event/1930-uhr-probe-im-agw-2/
LOCATION:Augustinus Gymnasium Weiden\, Sebastianstraße 28\, Weiden in der Oberpfalz\, 92637\, Deutschland
END:VEVENT
BEGIN:VEVENT
DTSTART;TZID=Europe/Berlin:20231009T193000
DTEND;TZID=Europe/Berlin:20231009T213000
DTSTAMP:20260420T202929
CREATED:20231002T113343Z
LAST-MODIFIED:20231009T065822Z
UID:2988-1696879800-1696887000@weidenerkammerchor.de
SUMMARY:Probe entfällt
DESCRIPTION:
URL:https://weidenerkammerchor.de/event/1930-uhr-probe-im-agw/
LOCATION:Augustinus Gymnasium Weiden\, Sebastianstraße 28\, Weiden in der Oberpfalz\, 92637\, Deutschland
END:VEVENT
BEGIN:VEVENT
DTSTART;TZID=Europe/Berlin:20231002T193000
DTEND;TZID=Europe/Berlin:20231002T213000
DTSTAMP:20260420T202929
CREATED:20231002T112952Z
LAST-MODIFIED:20231002T112952Z
UID:2978-1696275000-1696282200@weidenerkammerchor.de
SUMMARY:19.30 Uhr - Probe im AGW
DESCRIPTION:
URL:https://weidenerkammerchor.de/event/19-30-uhr-probe-im-agw-44/
LOCATION:Augustinus Gymnasium Weiden\, Sebastianstraße 28\, Weiden in der Oberpfalz\, 92637\, Deutschland
END:VEVENT
BEGIN:VEVENT
DTSTART;TZID=Europe/Berlin:20230925T193000
DTEND;TZID=Europe/Berlin:20230925T213000
DTSTAMP:20260420T202929
CREATED:20231002T113205Z
LAST-MODIFIED:20231002T113205Z
UID:2982-1695670200-1695677400@weidenerkammerchor.de
SUMMARY:19.30 Uhr - Probe im AGW
DESCRIPTION:
URL:https://weidenerkammerchor.de/event/19-30-uhr-probe-im-agw-46/
LOCATION:Augustinus Gymnasium Weiden\, Sebastianstraße 28\, Weiden in der Oberpfalz\, 92637\, Deutschland
END:VEVENT
BEGIN:VEVENT
DTSTART;TZID=Europe/Berlin:20230918T193000
DTEND;TZID=Europe/Berlin:20230918T213000
DTSTAMP:20260420T202929
CREATED:20231002T113113Z
LAST-MODIFIED:20231002T113113Z
UID:2980-1695065400-1695072600@weidenerkammerchor.de
SUMMARY:19.30 Uhr - Probe im AGW
DESCRIPTION:
URL:https://weidenerkammerchor.de/event/19-30-uhr-probe-im-agw-45/
LOCATION:Augustinus Gymnasium Weiden\, Sebastianstraße 28\, Weiden in der Oberpfalz\, 92637\, Deutschland
END:VEVENT
END:VCALENDAR