BEGIN:VCALENDAR
VERSION:2.0
PRODID:-//Weidener Kammerchor - ECPv6.15.16//NONSGML v1.0//EN
CALSCALE:GREGORIAN
METHOD:PUBLISH
X-WR-CALNAME:Weidener Kammerchor
X-ORIGINAL-URL:https://weidenerkammerchor.de
X-WR-CALDESC:Veranstaltungen für Weidener Kammerchor
REFRESH-INTERVAL;VALUE=DURATION:PT1H
X-Robots-Tag:noindex
X-PUBLISHED-TTL:PT1H
BEGIN:VTIMEZONE
TZID:Europe/Berlin
BEGIN:DAYLIGHT
TZOFFSETFROM:+0100
TZOFFSETTO:+0200
TZNAME:CEST
DTSTART:20220327T010000
END:DAYLIGHT
BEGIN:STANDARD
TZOFFSETFROM:+0200
TZOFFSETTO:+0100
TZNAME:CET
DTSTART:20221030T010000
END:STANDARD
BEGIN:DAYLIGHT
TZOFFSETFROM:+0100
TZOFFSETTO:+0200
TZNAME:CEST
DTSTART:20230326T010000
END:DAYLIGHT
BEGIN:STANDARD
TZOFFSETFROM:+0200
TZOFFSETTO:+0100
TZNAME:CET
DTSTART:20231029T010000
END:STANDARD
BEGIN:DAYLIGHT
TZOFFSETFROM:+0100
TZOFFSETTO:+0200
TZNAME:CEST
DTSTART:20240331T010000
END:DAYLIGHT
BEGIN:STANDARD
TZOFFSETFROM:+0200
TZOFFSETTO:+0100
TZNAME:CET
DTSTART:20241027T010000
END:STANDARD
END:VTIMEZONE
BEGIN:VEVENT
DTSTART;TZID=Europe/Berlin:20231106T193000
DTEND;TZID=Europe/Berlin:20231106T213000
DTSTAMP:20260420T121044
CREATED:20231002T114254Z
LAST-MODIFIED:20231002T114254Z
UID:2996-1699299000-1699306200@weidenerkammerchor.de
SUMMARY:19.30 Uhr - Probe im AGW
DESCRIPTION:
URL:https://weidenerkammerchor.de/event/19-30-uhr-probe-im-agw-47/
LOCATION:Augustinus Gymnasium Weiden\, Sebastianstraße 28\, Weiden in der Oberpfalz\, 92637\, Deutschland
END:VEVENT
BEGIN:VEVENT
DTSTART;TZID=Europe/Berlin:20231113T193000
DTEND;TZID=Europe/Berlin:20231113T213000
DTSTAMP:20260420T121044
CREATED:20231002T114328Z
LAST-MODIFIED:20231002T114605Z
UID:2998-1699903800-1699911000@weidenerkammerchor.de
SUMMARY:19.30 Uhr - Probe im AGW
DESCRIPTION:
URL:https://weidenerkammerchor.de/event/1930-uhr-probe-im-agw-4/
LOCATION:Augustinus Gymnasium Weiden\, Sebastianstraße 28\, Weiden in der Oberpfalz\, 92637\, Deutschland
END:VEVENT
BEGIN:VEVENT
DTSTART;TZID=Europe/Berlin:20231120T193000
DTEND;TZID=Europe/Berlin:20231120T213000
DTSTAMP:20260420T121044
CREATED:20231002T114420Z
LAST-MODIFIED:20231002T114420Z
UID:3000-1700508600-1700515800@weidenerkammerchor.de
SUMMARY:19.30 Uhr - Probe im AGW
DESCRIPTION:
URL:https://weidenerkammerchor.de/event/19-30-uhr-probe-im-agw-48/
LOCATION:Augustinus Gymnasium Weiden\, Sebastianstraße 28\, Weiden in der Oberpfalz\, 92637\, Deutschland
END:VEVENT
BEGIN:VEVENT
DTSTART;TZID=Europe/Berlin:20231127T193000
DTEND;TZID=Europe/Berlin:20231127T213000
DTSTAMP:20260420T121044
CREATED:20231002T114457Z
LAST-MODIFIED:20231002T114457Z
UID:3002-1701113400-1701120600@weidenerkammerchor.de
SUMMARY:19.30 Uhr - Probe im AGW
DESCRIPTION:
URL:https://weidenerkammerchor.de/event/19-30-uhr-probe-im-agw-49/
LOCATION:Augustinus Gymnasium Weiden\, Sebastianstraße 28\, Weiden in der Oberpfalz\, 92637\, Deutschland
END:VEVENT
END:VCALENDAR