BEGIN:VCALENDAR
VERSION:2.0
PRODID:-//Weidener Kammerchor - ECPv6.15.16//NONSGML v1.0//EN
CALSCALE:GREGORIAN
METHOD:PUBLISH
X-WR-CALNAME:Weidener Kammerchor
X-ORIGINAL-URL:https://weidenerkammerchor.de
X-WR-CALDESC:Veranstaltungen für Weidener Kammerchor
REFRESH-INTERVAL;VALUE=DURATION:PT1H
X-Robots-Tag:noindex
X-PUBLISHED-TTL:PT1H
BEGIN:VTIMEZONE
TZID:Europe/Berlin
BEGIN:DAYLIGHT
TZOFFSETFROM:+0100
TZOFFSETTO:+0200
TZNAME:CEST
DTSTART:20230326T010000
END:DAYLIGHT
BEGIN:STANDARD
TZOFFSETFROM:+0200
TZOFFSETTO:+0100
TZNAME:CET
DTSTART:20231029T010000
END:STANDARD
BEGIN:DAYLIGHT
TZOFFSETFROM:+0100
TZOFFSETTO:+0200
TZNAME:CEST
DTSTART:20240331T010000
END:DAYLIGHT
BEGIN:STANDARD
TZOFFSETFROM:+0200
TZOFFSETTO:+0100
TZNAME:CET
DTSTART:20241027T010000
END:STANDARD
BEGIN:DAYLIGHT
TZOFFSETFROM:+0100
TZOFFSETTO:+0200
TZNAME:CEST
DTSTART:20250330T010000
END:DAYLIGHT
BEGIN:STANDARD
TZOFFSETFROM:+0200
TZOFFSETTO:+0100
TZNAME:CET
DTSTART:20251026T010000
END:STANDARD
END:VTIMEZONE
BEGIN:VEVENT
DTSTART;VALUE=DATE:20240101
DTEND;VALUE=DATE:20240102
DTSTAMP:20260420T152146
CREATED:20231204T104941Z
LAST-MODIFIED:20240126T101117Z
UID:3084-1704067200-1704153599@weidenerkammerchor.de
SUMMARY:Keine Probe
DESCRIPTION:
URL:https://weidenerkammerchor.de/event/keine-probe-21/
END:VEVENT
BEGIN:VEVENT
DTSTART;TZID=Europe/Berlin:20240105T193000
DTEND;TZID=Europe/Berlin:20240105T220000
DTSTAMP:20260420T152146
CREATED:20231205T123501Z
LAST-MODIFIED:20240105T021437Z
UID:3087-1704483000-1704492000@weidenerkammerchor.de
SUMMARY:19.30 Uhr - Probe
DESCRIPTION:
URL:https://weidenerkammerchor.de/event/19-30-uhr-gp/
END:VEVENT
BEGIN:VEVENT
DTSTART;TZID=Europe/Berlin:20240106T153000
DTEND;TZID=Europe/Berlin:20240106T170000
DTSTAMP:20260420T152146
CREATED:20240105T021257Z
LAST-MODIFIED:20240105T021355Z
UID:3098-1704555000-1704560400@weidenerkammerchor.de
SUMMARY:15.30 Uhr - GP
DESCRIPTION:
URL:https://weidenerkammerchor.de/event/15-30-uhr-gp-in-st-georg/
LOCATION:St. Georg Neustadt\, Stadtplatz 12\, Neustadt/WN\, 92660
END:VEVENT
BEGIN:VEVENT
DTSTART;TZID=Europe/Berlin:20240106T190000
DTEND;TZID=Europe/Berlin:20240106T233000
DTSTAMP:20260420T152146
CREATED:20231204T104803Z
LAST-MODIFIED:20231211T150620Z
UID:3078-1704567600-1704583800@weidenerkammerchor.de
SUMMARY:19 Uhr - Konzert in St. Georg/NEW
DESCRIPTION:
URL:https://weidenerkammerchor.de/event/17-uhr-konzert-in-st-felix-new/
LOCATION:St. Georg Neustadt\, Stadtplatz 12\, Neustadt/WN\, 92660
END:VEVENT
BEGIN:VEVENT
DTSTART;VALUE=DATE:20240108
DTEND;VALUE=DATE:20240109
DTSTAMP:20260420T152146
CREATED:20240105T021624Z
LAST-MODIFIED:20240105T021642Z
UID:3103-1704672000-1704758399@weidenerkammerchor.de
SUMMARY:Keine Probe
DESCRIPTION:
URL:https://weidenerkammerchor.de/event/keine-probe-22/
END:VEVENT
BEGIN:VEVENT
DTSTART;VALUE=DATE:20240115
DTEND;VALUE=DATE:20240116
DTSTAMP:20260420T152146
CREATED:20240126T101140Z
LAST-MODIFIED:20240126T101140Z
UID:3117-1705276800-1705363199@weidenerkammerchor.de
SUMMARY:Keine Probe
DESCRIPTION:
URL:https://weidenerkammerchor.de/event/keine-probe-23/
END:VEVENT
BEGIN:VEVENT
DTSTART;TZID=Europe/Berlin:20240122T193000
DTEND;TZID=Europe/Berlin:20240122T213000
DTSTAMP:20260420T152146
CREATED:20240126T101006Z
LAST-MODIFIED:20240126T101057Z
UID:3114-1705951800-1705959000@weidenerkammerchor.de
SUMMARY:19.30 - Probe im AGW
DESCRIPTION:
URL:https://weidenerkammerchor.de/event/19-30-probe-im-agw/
LOCATION:Augustinus Gymnasium Weiden\, Sebastianstraße 28\, Weiden in der Oberpfalz\, 92637\, Deutschland
END:VEVENT
BEGIN:VEVENT
DTSTART;TZID=Europe/Berlin:20240129T193000
DTEND;TZID=Europe/Berlin:20240129T213000
DTSTAMP:20260420T152146
CREATED:20240126T101443Z
LAST-MODIFIED:20240126T101443Z
UID:3119-1706556600-1706563800@weidenerkammerchor.de
SUMMARY:19.30 Uhr - Probe im AGW
DESCRIPTION:
URL:https://weidenerkammerchor.de/event/19-30-uhr-probe-im-agw-52/
LOCATION:Augustinus Gymnasium Weiden\, Sebastianstraße 28\, Weiden in der Oberpfalz\, 92637\, Deutschland
END:VEVENT
END:VCALENDAR